Package: profileScoreDist Version: 1.35.0 Command: rm -rf profileScoreDist.buildbin-libdir && mkdir profileScoreDist.buildbin-libdir && /Users/biocbuild/BBS/utils/build-universal.sh profileScoreDist_1.35.0.tar.gz /Library/Frameworks/R.framework/Resources/bin/R profileScoreDist.buildbin-libdir StartedAt: 2025-02-21 00:46:12 -0500 (Fri, 21 Feb 2025) EndedAt: 2025-02-21 00:46:28 -0500 (Fri, 21 Feb 2025) EllapsedTime: 16.2 seconds RetCode: 0 Status: OK PackageFile: profileScoreDist_1.35.0.tgz PackageFileSize: 355.4 KiB