Package: proDA Version: 1.21.0 Command: /home/biocbuild/bbs-3.21-bioc/R/bin/R CMD check --install=check:proDA.install-out.txt --library=/home/biocbuild/bbs-3.21-bioc/R/site-library --timings proDA_1.21.0.tar.gz StartedAt: 2025-02-22 01:08:50 -0500 (Sat, 22 Feb 2025) EndedAt: 2025-02-22 01:14:14 -0500 (Sat, 22 Feb 2025) EllapsedTime: 323.4 seconds RetCode: 0 Status: OK CheckDir: proDA.Rcheck Warnings: 0