Package: proDA Version: 1.21.0 Command: /home/biocbuild/bbs-3.21-bioc/R/bin/R CMD build --keep-empty-dirs --no-resave-data proDA StartedAt: 2025-02-21 19:06:56 -0500 (Fri, 21 Feb 2025) EndedAt: 2025-02-21 19:08:15 -0500 (Fri, 21 Feb 2025) EllapsedTime: 79.1 seconds RetCode: 0 Status: OK PackageFile: proDA_1.21.0.tar.gz PackageFileSize: 1.351 MiB