Package: proDA Version: 1.21.0 Command: rm -rf proDA.buildbin-libdir && mkdir proDA.buildbin-libdir && /Users/biocbuild/BBS/utils/build-universal.sh proDA_1.21.0.tar.gz /Library/Frameworks/R.framework/Resources/bin/R proDA.buildbin-libdir StartedAt: 2025-02-21 00:46:08 -0500 (Fri, 21 Feb 2025) EndedAt: 2025-02-21 00:46:40 -0500 (Fri, 21 Feb 2025) EllapsedTime: 32.3 seconds RetCode: 0 Status: OK PackageFile: proDA_1.21.0.tgz PackageFileSize: 1.209 MiB