Package: proBAMr Version: 1.41.0 Command: E:\biocbuild\bbs-3.21-bioc\R\bin\R.exe CMD check --no-multiarch --install=check:proBAMr.install-out.txt --library=E:\biocbuild\bbs-3.21-bioc\R\library --no-vignettes --timings proBAMr_1.41.0.tar.gz StartedAt: 2025-02-21 04:33:03 -0500 (Fri, 21 Feb 2025) EndedAt: 2025-02-21 04:38:30 -0500 (Fri, 21 Feb 2025) EllapsedTime: 326.9 seconds RetCode: 0 Status: OK CheckDir: proBAMr.Rcheck Warnings: 0