Package: proBAMr Version: 1.41.0 Command: /home/biocbuild/bbs-3.21-bioc/R/bin/R CMD check --install=check:proBAMr.install-out.txt --library=/home/biocbuild/bbs-3.21-bioc/R/site-library --timings proBAMr_1.41.0.tar.gz StartedAt: 2025-02-21 00:46:50 -0500 (Fri, 21 Feb 2025) EndedAt: 2025-02-21 00:52:17 -0500 (Fri, 21 Feb 2025) EllapsedTime: 327.4 seconds RetCode: 0 Status: OK CheckDir: proBAMr.Rcheck Warnings: 0