Package: proBAMr Version: 1.41.0 Command: /home/biocbuild/bbs-3.21-bioc/R/bin/R CMD build --keep-empty-dirs --no-resave-data proBAMr StartedAt: 2025-02-20 18:45:36 -0500 (Thu, 20 Feb 2025) EndedAt: 2025-02-20 18:46:46 -0500 (Thu, 20 Feb 2025) EllapsedTime: 70.1 seconds RetCode: 0 Status: OK PackageFile: proBAMr_1.41.0.tar.gz PackageFileSize: 814.1 KiB