Package: proBAMr Version: 1.41.0 Command: /Library/Frameworks/R.framework/Resources/bin/R CMD build --keep-empty-dirs --no-resave-data proBAMr StartedAt: 2025-02-20 17:50:40 -0500 (Thu, 20 Feb 2025) EndedAt: 2025-02-20 17:51:55 -0500 (Thu, 20 Feb 2025) EllapsedTime: 75.4 seconds RetCode: 0 Status: OK PackageFile: proBAMr_1.41.0.tar.gz PackageFileSize: 814 KiB