Package: proBAMr Version: 1.41.0 Command: /Library/Frameworks/R.framework/Resources/bin/R CMD INSTALL proBAMr StartedAt: 2025-02-20 15:14:19 -0500 (Thu, 20 Feb 2025) EndedAt: 2025-02-20 15:14:34 -0500 (Thu, 20 Feb 2025) EllapsedTime: 15.0 seconds RetCode: 0 Status: OK