Package: proBAMr Version: 1.41.0 Command: /Library/Frameworks/R.framework/Resources/bin/R CMD check --install=check:proBAMr.install-out.txt --library=/Library/Frameworks/R.framework/Resources/library --no-vignettes --timings proBAMr_1.41.0.tar.gz StartedAt: 2025-02-20 20:47:49 -0500 (Thu, 20 Feb 2025) EndedAt: 2025-02-20 20:49:47 -0500 (Thu, 20 Feb 2025) EllapsedTime: 118.4 seconds RetCode: 0 Status: OK CheckDir: proBAMr.Rcheck Warnings: 0