Package: proActiv Version: 1.17.0 Command: /Library/Frameworks/R.framework/Resources/bin/R CMD build --keep-empty-dirs --no-resave-data proActiv StartedAt: 2025-02-17 17:48:57 -0500 (Mon, 17 Feb 2025) EndedAt: 2025-02-17 17:49:59 -0500 (Mon, 17 Feb 2025) EllapsedTime: 61.7 seconds RetCode: 0 Status: OK PackageFile: proActiv_1.17.0.tar.gz PackageFileSize: 2.684 MiB