Package: proActiv Version: 1.17.0 Command: /Library/Frameworks/R.framework/Resources/bin/R CMD check --install=check:proActiv.install-out.txt --library=/Library/Frameworks/R.framework/Resources/library --no-vignettes --timings proActiv_1.17.0.tar.gz StartedAt: 2025-02-17 20:47:29 -0500 (Mon, 17 Feb 2025) EndedAt: 2025-02-17 20:49:42 -0500 (Mon, 17 Feb 2025) EllapsedTime: 133.7 seconds RetCode: 0 Status: OK CheckDir: proActiv.Rcheck Warnings: 0