Package: proActiv Version: 1.17.0 Command: /Library/Frameworks/R.framework/Resources/bin/R CMD build --keep-empty-dirs --no-resave-data proActiv StartedAt: 2025-02-17 17:15:45 -0500 (Mon, 17 Feb 2025) EndedAt: 2025-02-17 17:16:09 -0500 (Mon, 17 Feb 2025) EllapsedTime: 24.3 seconds RetCode: 0 Status: OK PackageFile: proActiv_1.17.0.tar.gz PackageFileSize: 2.684 MiB