Package: preprocessCore Version: 1.69.0 Command: rm -rf preprocessCore.buildbin-libdir && mkdir preprocessCore.buildbin-libdir && E:\biocbuild\bbs-3.21-bioc\R\bin\R.exe CMD INSTALL --build --library=preprocessCore.buildbin-libdir preprocessCore_1.69.0.tar.gz StartedAt: 2025-02-20 08:27:40 -0500 (Thu, 20 Feb 2025) EndedAt: 2025-02-20 08:28:57 -0500 (Thu, 20 Feb 2025) EllapsedTime: 76.5 seconds RetCode: 0 Status: OK PackageFile: preprocessCore_1.69.0.zip PackageFileSize: 168.6 KiB