Package: preprocessCore Version: 1.70.0 Command: /home/biocbuild/bbs-3.21-bioc/R/bin/R CMD INSTALL preprocessCore StartedAt: 2025-10-08 15:11:28 -0400 (Wed, 08 Oct 2025) EndedAt: 2025-10-08 15:11:40 -0400 (Wed, 08 Oct 2025) EllapsedTime: 12.2 seconds RetCode: 0 Status: OK