Package: preprocessCore Version: 1.69.0 Command: /Library/Frameworks/R.framework/Resources/bin/R CMD check --install=check:preprocessCore.install-out.txt --library=/Library/Frameworks/R.framework/Resources/library --no-vignettes --timings preprocessCore_1.69.0.tar.gz StartedAt: 2025-02-20 22:27:23 -0500 (Thu, 20 Feb 2025) EndedAt: 2025-02-20 22:27:58 -0500 (Thu, 20 Feb 2025) EllapsedTime: 34.3 seconds RetCode: 0 Status: WARNINGS CheckDir: preprocessCore.Rcheck Warnings: 2