Package: preprocessCore Version: 1.69.0 Command: /Library/Frameworks/R.framework/Resources/bin/R CMD build --keep-empty-dirs --no-resave-data preprocessCore StartedAt: 2025-02-20 17:50:17 -0500 (Thu, 20 Feb 2025) EndedAt: 2025-02-20 17:50:19 -0500 (Thu, 20 Feb 2025) EllapsedTime: 2.3 seconds RetCode: 0 Status: OK PackageFile: preprocessCore_1.69.0.tar.gz PackageFileSize: 121.2 KiB