Package: preprocessCore Version: 1.70.0 Command: /Library/Frameworks/R.framework/Resources/bin/R CMD INSTALL preprocessCore StartedAt: 2025-10-02 15:32:47 -0400 (Thu, 02 Oct 2025) EndedAt: 2025-10-02 15:33:05 -0400 (Thu, 02 Oct 2025) EllapsedTime: 18.2 seconds RetCode: 0 Status: OK