Package: preciseTAD Version: 1.17.0 Command: chmod a+r preciseTAD -R && E:\biocbuild\bbs-3.21-bioc\R\bin\R.exe CMD build --keep-empty-dirs --no-resave-data preciseTAD StartedAt: 2025-02-20 20:55:35 -0500 (Thu, 20 Feb 2025) EndedAt: 2025-02-20 20:59:54 -0500 (Thu, 20 Feb 2025) EllapsedTime: 258.2 seconds RetCode: 0 Status: OK PackageFile: preciseTAD_1.17.0.tar.gz PackageFileSize: 4.056 MiB