Package: pram Version: 1.23.0 Command: /home/biocbuild/bbs-3.21-bioc/R/bin/R CMD INSTALL pram StartedAt: 2025-02-19 15:25:55 -0500 (Wed, 19 Feb 2025) EndedAt: 2025-02-19 15:26:25 -0500 (Wed, 19 Feb 2025) EllapsedTime: 30.5 seconds RetCode: 0 Status: OK