Package: pram Version: 1.23.0 Command: /home/biocbuild/bbs-3.21-bioc/R/bin/R CMD check --install=check:pram.install-out.txt --library=/home/biocbuild/bbs-3.21-bioc/R/site-library --timings pram_1.23.0.tar.gz StartedAt: 2025-02-20 01:17:41 -0500 (Thu, 20 Feb 2025) EndedAt: 2025-02-20 01:21:28 -0500 (Thu, 20 Feb 2025) EllapsedTime: 227.3 seconds RetCode: 0 Status: OK CheckDir: pram.Rcheck Warnings: 0