Package: pram Version: 1.23.0 Command: /home/biocbuild/bbs-3.21-bioc/R/bin/R CMD build --keep-empty-dirs --no-resave-data pram StartedAt: 2025-02-20 18:45:02 -0500 (Thu, 20 Feb 2025) EndedAt: 2025-02-20 18:45:47 -0500 (Thu, 20 Feb 2025) EllapsedTime: 45.0 seconds RetCode: 0 Status: OK PackageFile: pram_1.23.0.tar.gz PackageFileSize: 2.666 MiB