Package: pram Version: 1.23.0 Command: /Library/Frameworks/R.framework/Resources/bin/R CMD build --keep-empty-dirs --no-resave-data pram StartedAt: 2025-02-18 17:48:10 -0500 (Tue, 18 Feb 2025) EndedAt: 2025-02-18 17:48:59 -0500 (Tue, 18 Feb 2025) EllapsedTime: 49.1 seconds RetCode: 0 Status: OK PackageFile: pram_1.23.0.tar.gz PackageFileSize: 2.666 MiB