Package: pram Version: 1.23.0 Command: /Library/Frameworks/R.framework/Resources/bin/R CMD INSTALL pram StartedAt: 2025-02-18 15:08:51 -0500 (Tue, 18 Feb 2025) EndedAt: 2025-02-18 15:09:04 -0500 (Tue, 18 Feb 2025) EllapsedTime: 13.2 seconds RetCode: 0 Status: OK