Package: pqsfinder Version: 2.23.0 Command: chmod a+r pqsfinder -R && E:\biocbuild\bbs-3.21-bioc\R\bin\R.exe CMD build --keep-empty-dirs --no-resave-data pqsfinder StartedAt: 2025-02-20 20:55:24 -0500 (Thu, 20 Feb 2025) EndedAt: 2025-02-20 20:58:20 -0500 (Thu, 20 Feb 2025) EllapsedTime: 176.0 seconds RetCode: 0 Status: OK PackageFile: pqsfinder_2.23.0.tar.gz PackageFileSize: 327.3 KiB