Package: pqsfinder Version: 2.23.0 Command: /home/biocbuild/bbs-3.21-bioc/R/bin/R CMD check --install=check:pqsfinder.install-out.txt --library=/home/biocbuild/bbs-3.21-bioc/R/site-library --timings pqsfinder_2.23.0.tar.gz StartedAt: 2025-02-21 00:45:17 -0500 (Fri, 21 Feb 2025) EndedAt: 2025-02-21 00:49:16 -0500 (Fri, 21 Feb 2025) EllapsedTime: 238.3 seconds RetCode: 0 Status: WARNINGS CheckDir: pqsfinder.Rcheck Warnings: 1