Package: pqsfinder Version: 2.23.0 Command: /home/biocbuild/bbs-3.21-bioc/R/bin/R CMD build --keep-empty-dirs --no-resave-data pqsfinder StartedAt: 2025-02-20 18:44:54 -0500 (Thu, 20 Feb 2025) EndedAt: 2025-02-20 18:46:55 -0500 (Thu, 20 Feb 2025) EllapsedTime: 121.1 seconds RetCode: 0 Status: OK PackageFile: pqsfinder_2.23.0.tar.gz PackageFileSize: 371.7 KiB