Package: pqsfinder Version: 2.23.0 Command: /Library/Frameworks/R.framework/Resources/bin/R CMD INSTALL pqsfinder StartedAt: 2025-02-20 15:09:07 -0500 (Thu, 20 Feb 2025) EndedAt: 2025-02-20 15:09:55 -0500 (Thu, 20 Feb 2025) EllapsedTime: 47.8 seconds RetCode: 0 Status: OK