Package: pqsfinder Version: 2.23.0 Command: /Library/Frameworks/R.framework/Resources/bin/R CMD check --install=check:pqsfinder.install-out.txt --library=/Library/Frameworks/R.framework/Resources/library --no-vignettes --timings pqsfinder_2.23.0.tar.gz StartedAt: 2025-02-20 22:26:36 -0500 (Thu, 20 Feb 2025) EndedAt: 2025-02-20 22:29:41 -0500 (Thu, 20 Feb 2025) EllapsedTime: 184.7 seconds RetCode: 0 Status: WARNINGS CheckDir: pqsfinder.Rcheck Warnings: 1