Package: pqsfinder Version: 2.23.0 Command: /Library/Frameworks/R.framework/Resources/bin/R CMD build --keep-empty-dirs --no-resave-data pqsfinder StartedAt: 2025-02-20 17:49:58 -0500 (Thu, 20 Feb 2025) EndedAt: 2025-02-20 17:51:55 -0500 (Thu, 20 Feb 2025) EllapsedTime: 117.7 seconds RetCode: 0 Status: OK PackageFile: pqsfinder_2.23.0.tar.gz PackageFileSize: 377.3 KiB