Package: pqsfinder Version: 2.23.0 Command: rm -rf pqsfinder.buildbin-libdir && mkdir pqsfinder.buildbin-libdir && /Users/biocbuild/BBS/utils/build-universal.sh pqsfinder_2.23.0.tar.gz /Library/Frameworks/R.framework/Resources/bin/R pqsfinder.buildbin-libdir StartedAt: 2025-02-20 22:30:03 -0500 (Thu, 20 Feb 2025) EndedAt: 2025-02-20 22:30:17 -0500 (Thu, 20 Feb 2025) EllapsedTime: 14.3 seconds RetCode: 0 Status: OK PackageFile: pqsfinder_2.23.0.tgz PackageFileSize: 1.513 MiB