Package: ppcseq Version: 1.15.0 Command: rm -rf ppcseq.buildbin-libdir && mkdir ppcseq.buildbin-libdir && E:\biocbuild\bbs-3.21-bioc\R\bin\R.exe CMD INSTALL --build --library=ppcseq.buildbin-libdir ppcseq_1.15.0.tar.gz StartedAt: 2025-02-20 08:27:10 -0500 (Thu, 20 Feb 2025) EndedAt: 2025-02-20 08:34:24 -0500 (Thu, 20 Feb 2025) EllapsedTime: 433.6 seconds RetCode: 0 Status: OK PackageFile: ppcseq_1.15.0.zip PackageFileSize: 2.837 MiB