Package: ppcseq Version: 1.15.0 Command: /home/biocbuild/bbs-3.21-bioc/R/bin/R CMD check --install=check:ppcseq.install-out.txt --library=/home/biocbuild/bbs-3.21-bioc/R/site-library --timings ppcseq_1.15.0.tar.gz StartedAt: 2025-02-21 00:44:48 -0500 (Fri, 21 Feb 2025) EndedAt: 2025-02-21 00:58:43 -0500 (Fri, 21 Feb 2025) EllapsedTime: 834.1 seconds RetCode: 0 Status: OK CheckDir: ppcseq.Rcheck Warnings: 0