Package: ppcseq Version: 1.15.0 Command: /home/biocbuild/bbs-3.21-bioc/R/bin/R CMD build --keep-empty-dirs --no-resave-data ppcseq StartedAt: 2025-02-20 18:44:34 -0500 (Thu, 20 Feb 2025) EndedAt: 2025-02-20 18:57:23 -0500 (Thu, 20 Feb 2025) EllapsedTime: 770.0 seconds RetCode: 0 Status: OK PackageFile: ppcseq_1.15.0.tar.gz PackageFileSize: 2.039 MiB