Package: ppcseq Version: 1.15.0 Command: /Library/Frameworks/R.framework/Resources/bin/R CMD build --keep-empty-dirs --no-resave-data ppcseq StartedAt: 2025-02-19 17:17:18 -0500 (Wed, 19 Feb 2025) EndedAt: 2025-02-19 17:17:59 -0500 (Wed, 19 Feb 2025) EllapsedTime: 41.5 seconds RetCode: 0 Status: OK PackageFile: ppcseq_1.15.0.tar.gz PackageFileSize: 1.939 MiB