Package: powerTCR Version: 1.27.0 Command: chmod a+r powerTCR -R && E:\biocbuild\bbs-3.21-bioc\R\bin\R.exe CMD build --keep-empty-dirs --no-resave-data powerTCR StartedAt: 2025-02-19 20:51:46 -0500 (Wed, 19 Feb 2025) EndedAt: 2025-02-19 20:52:23 -0500 (Wed, 19 Feb 2025) EllapsedTime: 36.5 seconds RetCode: 0 Status: OK PackageFile: powerTCR_1.27.0.tar.gz PackageFileSize: 320 KiB