Package: pogos Version: 1.27.1 Command: E:\biocbuild\bbs-3.21-bioc\R\bin\R.exe CMD INSTALL pogos StartedAt: 2025-02-20 16:13:54 -0500 (Thu, 20 Feb 2025) EndedAt: 2025-02-20 16:14:41 -0500 (Thu, 20 Feb 2025) EllapsedTime: 47.0 seconds RetCode: 0 Status: OK