Package: pogos Version: 1.27.1 Command: rm -rf pogos.buildbin-libdir && mkdir pogos.buildbin-libdir && E:\biocbuild\bbs-3.21-bioc\R\bin\R.exe CMD INSTALL --build --library=pogos.buildbin-libdir pogos_1.27.1.tar.gz StartedAt: 2025-02-21 08:47:01 -0500 (Fri, 21 Feb 2025) EndedAt: 2025-02-21 08:47:50 -0500 (Fri, 21 Feb 2025) EllapsedTime: 48.7 seconds RetCode: 0 Status: OK PackageFile: pogos_1.27.1.zip PackageFileSize: 873.2 KiB