Package: pogos Version: 1.27.1 Command: /Library/Frameworks/R.framework/Resources/bin/R CMD check --install=check:pogos.install-out.txt --library=/Library/Frameworks/R.framework/Resources/library --no-vignettes --timings pogos_1.27.1.tar.gz StartedAt: 2025-02-20 22:25:02 -0500 (Thu, 20 Feb 2025) EndedAt: 2025-02-20 22:29:24 -0500 (Thu, 20 Feb 2025) EllapsedTime: 261.6 seconds RetCode: 0 Status: OK CheckDir: pogos.Rcheck Warnings: 0