Package: pogos Version: 1.27.1 Command: rm -rf pogos.buildbin-libdir && mkdir pogos.buildbin-libdir && /Users/biocbuild/BBS/utils/build-universal.sh pogos_1.27.1.tar.gz /Library/Frameworks/R.framework/Resources/bin/R pogos.buildbin-libdir StartedAt: 2025-02-21 00:45:48 -0500 (Fri, 21 Feb 2025) EndedAt: 2025-02-21 00:46:36 -0500 (Fri, 21 Feb 2025) EllapsedTime: 48.6 seconds RetCode: 0 Status: OK PackageFile: pogos_1.27.1.tgz PackageFileSize: 1.389 MiB