Package: podkat Version: 1.39.0 Command: /home/biocbuild/bbs-3.21-bioc/R/bin/R CMD build --keep-empty-dirs --no-resave-data podkat StartedAt: 2025-02-19 18:39:44 -0500 (Wed, 19 Feb 2025) EndedAt: 2025-02-19 18:42:09 -0500 (Wed, 19 Feb 2025) EllapsedTime: 145.2 seconds RetCode: 0 Status: OK PackageFile: podkat_1.39.0.tar.gz PackageFileSize: 1.089 MiB