Package: pmp Version: 1.19.0 Command: /Library/Frameworks/R.framework/Resources/bin/R CMD INSTALL pmp StartedAt: 2025-02-19 15:22:52 -0500 (Wed, 19 Feb 2025) EndedAt: 2025-02-19 15:23:26 -0500 (Wed, 19 Feb 2025) EllapsedTime: 33.9 seconds RetCode: 0 Status: OK