Package: pmp Version: 1.19.0 Command: /Library/Frameworks/R.framework/Resources/bin/R CMD check --install=check:pmp.install-out.txt --library=/Library/Frameworks/R.framework/Resources/library --no-vignettes --timings pmp_1.19.0.tar.gz StartedAt: 2025-02-19 22:25:16 -0500 (Wed, 19 Feb 2025) EndedAt: 2025-02-19 22:29:00 -0500 (Wed, 19 Feb 2025) EllapsedTime: 224.7 seconds RetCode: 0 Status: OK CheckDir: pmp.Rcheck Warnings: 0