Package: pmp Version: 1.19.0 Command: /Library/Frameworks/R.framework/Resources/bin/R CMD build --keep-empty-dirs --no-resave-data pmp StartedAt: 2025-02-19 17:49:22 -0500 (Wed, 19 Feb 2025) EndedAt: 2025-02-19 17:50:52 -0500 (Wed, 19 Feb 2025) EllapsedTime: 90.1 seconds RetCode: 0 Status: OK PackageFile: pmp_1.19.0.tar.gz PackageFileSize: 5.166 MiB