Package: pmp Version: 1.19.0 Command: /home/biocbuild/R/R/bin/R CMD INSTALL pmp StartedAt: 2025-01-29 20:03:49 -0000 (Wed, 29 Jan 2025) EndedAt: 2025-01-29 20:04:22 -0000 (Wed, 29 Jan 2025) EllapsedTime: 33.9 seconds RetCode: 0 Status: OK