Package: plyxp Version: 1.1.0 Command: E:\biocbuild\bbs-3.21-bioc\R\bin\R.exe CMD INSTALL plyxp StartedAt: 2025-02-20 16:03:22 -0500 (Thu, 20 Feb 2025) EndedAt: 2025-02-20 16:04:58 -0500 (Thu, 20 Feb 2025) EllapsedTime: 96.4 seconds RetCode: 0 Status: OK