Package: plyxp Version: 1.1.0 Command: E:\biocbuild\bbs-3.21-bioc\R\bin\R.exe CMD check --no-multiarch --install=check:plyxp.install-out.txt --library=E:\biocbuild\bbs-3.21-bioc\R\library --no-vignettes --timings plyxp_1.1.0.tar.gz StartedAt: 2024-12-17 03:46:32 -0500 (Tue, 17 Dec 2024) EndedAt: 2024-12-17 03:50:00 -0500 (Tue, 17 Dec 2024) EllapsedTime: 207.7 seconds RetCode: 0 Status: OK CheckDir: plyxp.Rcheck Warnings: 0