Package: plyxp Version: 1.1.0 Command: /home/biocbuild/bbs-3.21-bioc/R/bin/R CMD INSTALL plyxp StartedAt: 2025-02-20 15:26:27 -0500 (Thu, 20 Feb 2025) EndedAt: 2025-02-20 15:26:58 -0500 (Thu, 20 Feb 2025) EllapsedTime: 31.5 seconds RetCode: 0 Status: OK