Package: plyxp Version: 1.1.0 Command: /Library/Frameworks/R.framework/Resources/bin/R CMD INSTALL plyxp StartedAt: 2025-02-20 15:04:39 -0500 (Thu, 20 Feb 2025) EndedAt: 2025-02-20 15:04:52 -0500 (Thu, 20 Feb 2025) EllapsedTime: 12.7 seconds RetCode: 0 Status: OK