Package: plyranges Version: 1.27.0 Command: /home/biocbuild/bbs-3.21-bioc/R/bin/R CMD INSTALL plyranges StartedAt: 2025-02-20 15:44:54 -0500 (Thu, 20 Feb 2025) EndedAt: 2025-02-20 15:45:29 -0500 (Thu, 20 Feb 2025) EllapsedTime: 35.7 seconds RetCode: 0 Status: OK